BEGIN:VCALENDAR
VERSION:2.0
PRODID:-//Kettle Moraine Land Trust - ECPv5.9.0//NONSGML v1.0//EN
CALSCALE:GREGORIAN
METHOD:PUBLISH
X-WR-CALNAME:Kettle Moraine Land Trust
X-ORIGINAL-URL:https://kmlandtrust.org
X-WR-CALDESC:Events for Kettle Moraine Land Trust
BEGIN:VTIMEZONE
TZID:America/Chicago
BEGIN:DAYLIGHT
TZOFFSETFROM:-0600
TZOFFSETTO:-0500
TZNAME:CDT
DTSTART:20240310T080000
END:DAYLIGHT
BEGIN:STANDARD
TZOFFSETFROM:-0500
TZOFFSETTO:-0600
TZNAME:CST
DTSTART:20241103T070000
END:STANDARD
END:VTIMEZONE
BEGIN:VEVENT
DTSTART;TZID=America/Chicago:20240309T083000
DTEND;TZID=America/Chicago:20240309T120000
DTSTAMP:20260424T213418
CREATED:20240207T224547Z
LAST-MODIFIED:20240207T224547Z
UID:12143-1709973000-1709985600@kmlandtrust.org
SUMMARY:Lyons Biodiversity Project Workshop
DESCRIPTION:Register for the 3rd Annual Lyons Biodiversity Project Winter Workshop on Saturday March 9\, 2024 from 8:30 a.m. to noon at the Lyons Town Hall. \n\nTOPICS & PRESENTERS: \n\nDNR   DMAP  LYONS PLAN \n\n\n\nHaley Frater\, DMAP Wildlife Biologist\, Wisconsin DNR\n\n\n\nLYONS  BIRD  HABITAT \n\n\n\nJames J. Giocomo\, PhD\, Central Region Director\, American Bird Conservancy\n\n\n\nOAK ECOSYSTEMS – RESTORATION FUNDING \n\n\n\n\n\n\nJordan Winkenbach\, Great Lakes Oak Ecosystem Coordinator\, American Bird Conservancy\nTommy Gunn\, Great Lakes Oak Ecosystem Forester\, American Bird Conservancy\n\n\n\nINTRODUCTION TO CONSERVATION EASEMENTS \n\n\n\nChristopher Gutschenritter\, JD/MELP\, Director\, Land Conservation Law Program\, Gathering Waters\, Wisconsin’s Alliance for Land Trusts\n\n\n\n\nPlease register for in-person or virtual option through our secure link below: \n\n\nOn-line registration form \n\n 
URL:https://kmlandtrust.org/event/lbpworkshop-2/
LOCATION:Lyons Town Hall\, 6339 Hospital Road\, Lyons\, WI\, 53148\, United States
CATEGORIES:Education,Help Nature,stewardship,Support Society
ATTACH;FMTTYPE=image/jpeg:https://kmlandtrust.org/wp-content/uploads/2023/01/LBP-How-To-Workshop-2023Mar4-Final.jpg
END:VEVENT
BEGIN:VEVENT
DTSTART;TZID=America/Chicago:20240323T130000
DTEND;TZID=America/Chicago:20240323T153000
DTSTAMP:20260424T213418
CREATED:20240321T182914Z
LAST-MODIFIED:20240321T182934Z
UID:12187-1711198800-1711207800@kmlandtrust.org
SUMMARY:Canceled: Fourth Saturday Stewardship at Beulah Bluff Preserve
DESCRIPTION:Due to the weather\, this Stewardship Day is being rescheduled to Saturday March 30. \nJoin us for our fourth Saturday Stewardship Day at Beulah Bluff Preserve. Depending on the weather\, we’ll be brush cutting\, seeding\, conducting controlled burns and other natural area restoration activities conducive for the season. Bring water and dress for the weather. Ages 18 and up\, no experience needed. Children under 18 welcome with adult chaperone\, gain service hours and experience in the conservation field. \n  \n 
URL:https://kmlandtrust.org/event/fourth-saturday-stewardship-bb-preserve-2/
LOCATION:Beulah Bluff Preserve\, N9026 Bakavi Way\, East Troy\, WI\, 53120\, United States
CATEGORIES:Education,Help Nature,stewardship,Support Society
ATTACH;FMTTYPE=image/jpeg:https://kmlandtrust.org/wp-content/uploads/2024/02/bbp-preserve-sign-e1707340160779.jpg
END:VEVENT
BEGIN:VEVENT
DTSTART;TZID=America/Chicago:20240330T130000
DTEND;TZID=America/Chicago:20240330T153000
DTSTAMP:20260424T213418
CREATED:20240321T183107Z
LAST-MODIFIED:20240321T183107Z
UID:12189-1711803600-1711812600@kmlandtrust.org
SUMMARY:Fourth Saturday Stewardship at Beulah Bluff Preserve
DESCRIPTION:Join us for our fourth Saturday Stewardship Day at Beulah Bluff Preserve. Depending on the weather\, we’ll be brush cutting\, seeding\, conducting controlled burns and other natural area restoration activities conducive for the season. Bring water and dress for the weather. Ages 18 and up\, no experience needed. Children under 18 welcome with adult chaperone\, gain service hours and experience in the conservation field. \nRegister here.  \nWorkday may be cancelled or rescheduled in the case of inclement weather.  \n 
URL:https://kmlandtrust.org/event/fourth-saturday-stewardship-bb-preserve-3/
LOCATION:Beulah Bluff Preserve\, N9026 Bakavi Way\, East Troy\, WI\, 53120\, United States
CATEGORIES:Education,Help Nature,stewardship,Support Society
ATTACH;FMTTYPE=image/jpeg:https://kmlandtrust.org/wp-content/uploads/2024/02/bbp-preserve-sign-e1707340160779.jpg
END:VEVENT
END:VCALENDAR