BEGIN:VCALENDAR
VERSION:2.0
PRODID:-//Kettle Moraine Land Trust - ECPv5.9.0//NONSGML v1.0//EN
CALSCALE:GREGORIAN
METHOD:PUBLISH
X-WR-CALNAME:Kettle Moraine Land Trust
X-ORIGINAL-URL:https://kmlandtrust.org
X-WR-CALDESC:Events for Kettle Moraine Land Trust
BEGIN:VTIMEZONE
TZID:America/Chicago
BEGIN:DAYLIGHT
TZOFFSETFROM:-0600
TZOFFSETTO:-0500
TZNAME:CDT
DTSTART:20240310T080000
END:DAYLIGHT
BEGIN:STANDARD
TZOFFSETFROM:-0500
TZOFFSETTO:-0600
TZNAME:CST
DTSTART:20241103T070000
END:STANDARD
END:VTIMEZONE
BEGIN:VEVENT
DTSTART;TZID=America/Chicago:20240221T183000
DTEND;TZID=America/Chicago:20240221T200000
DTSTAMP:20260424T225828
CREATED:20240201T231059Z
LAST-MODIFIED:20240202T125425Z
UID:12118-1708540200-1708545600@kmlandtrust.org
SUMMARY:Virtual Program: Native Plant Design Basics for the Home Landscape
DESCRIPTION:Join Rory Klick\, KMLT Director for a virtual gathering via Zoom to discuss design basics of integrating native plants in your home landscape. \nEver wondered how best to incorporate more native plants into your home landscape? Home gardeners often worry about having their landscapes look too “wild\,” but many native plants can be great functional choices for a more designed landscape – while also benefiting biodiversity and providing critical wildlife habitat. Learn about methods to integrate native plants into your home landscape and review some of the core native plant species of our local southeast Wisconsin region that translate well to the garden. \nWednesday\, February 21 6:30-8:00 p.m. \nRegistration is required to receive the Zoom link. Register here. \nRory Klick has worked with native landscapes for over 40 years as a plant ecologist and landscape designer\, including 15 years as a horticulture and biology professor. Bring your native landscape and plant questions for discussion!
URL:https://kmlandtrust.org/event/virtual-program/
LOCATION:Online
CATEGORIES:Education,Help Nature,stewardship,Support Society
ATTACH;FMTTYPE=image/jpeg:https://kmlandtrust.org/wp-content/uploads/2024/01/IMG-7274-1.jpg
END:VEVENT
BEGIN:VEVENT
DTSTART;TZID=America/Chicago:20240224T130000
DTEND;TZID=America/Chicago:20240224T153000
DTSTAMP:20260424T225828
CREATED:20240207T205553Z
LAST-MODIFIED:20240216T164547Z
UID:12126-1708779600-1708788600@kmlandtrust.org
SUMMARY:Fourth Saturday Stewardship at Jackson Creek Preserve
DESCRIPTION:Join us for our fourth Saturday Stewardship Day at Jackson Creek Preserve. Depending on the weather\, we’ll be brush cutting\, seeding\, conducting controlled burns and other natural area restoration activities conducive for the season. Bring water and dress for the weather. Ages 18 and up\, no experience needed. Children under 18 welcome with adult chaperone\, gain service hours and experience in the conservation field. Meet at the east end of the Four Lakes Athletic Club (FLAC) parking lot. \nRegister here.  \nWorkday may be cancelled or rescheduled in the case of inclement weather.  \n 
URL:https://kmlandtrust.org/event/fourth-saturday-stewardship-jc-preserve/
LOCATION:Jackson Creek Preserve\, 201 E Morrisey\, Elkhorn\, WI\, 53121
CATEGORIES:Education,Help Nature,stewardship,Support Society
ATTACH;FMTTYPE=image/jpeg:https://kmlandtrust.org/wp-content/uploads/2023/05/IMG_2233-e1707338820116.jpg
END:VEVENT
END:VCALENDAR