BEGIN:VCALENDAR
VERSION:2.0
PRODID:-//Kettle Moraine Land Trust - ECPv5.9.0//NONSGML v1.0//EN
CALSCALE:GREGORIAN
METHOD:PUBLISH
X-WR-CALNAME:Kettle Moraine Land Trust
X-ORIGINAL-URL:https://kmlandtrust.org
X-WR-CALDESC:Events for Kettle Moraine Land Trust
BEGIN:VTIMEZONE
TZID:America/Chicago
BEGIN:DAYLIGHT
TZOFFSETFROM:-0600
TZOFFSETTO:-0500
TZNAME:CDT
DTSTART:20230312T080000
END:DAYLIGHT
BEGIN:STANDARD
TZOFFSETFROM:-0500
TZOFFSETTO:-0600
TZNAME:CST
DTSTART:20231105T070000
END:STANDARD
END:VTIMEZONE
BEGIN:VEVENT
DTSTART;TZID=America/Chicago:20230916T103000
DTEND;TZID=America/Chicago:20230916T120000
DTSTAMP:20260425T054250
CREATED:20230809T192508Z
LAST-MODIFIED:20230914T015553Z
UID:11861-1694860200-1694865600@kmlandtrust.org
SUMMARY:Fall Leaf Art at Natureland Park
DESCRIPTION:On Saturday\, September 16\, 10:30 a.m. to noon\, come to Natureland Park for an all ages activity making leaf art! Bring your unique creative abilities and let the autumn season inspire you. Make leaf art\, pressed leaf collages\, leaf rubbings\, and leaf pounding prints. Don’t be leafed out! Join us and our friends at Walworth County Parks for a magical morning. \nRegistration is required\, email liza@kmlandtrust.org
URL:https://kmlandtrust.org/event/fall-leaf-art-at-natureland-park/
LOCATION:Natureland Park\, W8338 Territorial Road\, Whitewater\, WI\, 53190\, United States
CATEGORIES:Education,Help Nature,stewardship
ATTACH;FMTTYPE=image/jpeg:https://kmlandtrust.org/wp-content/uploads/2023/08/IMG-7813.jpg
END:VEVENT
BEGIN:VEVENT
DTSTART;TZID=America/Chicago:20230929T190000
DTEND;TZID=America/Chicago:20230929T200000
DTSTAMP:20260425T054250
CREATED:20230914T015949Z
LAST-MODIFIED:20230914T020038Z
UID:11909-1696014000-1696017600@kmlandtrust.org
SUMMARY:Harvest Moon at Beulah Bluff Preserve
DESCRIPTION:Join us at Beulah Bluff Preserve for a casual visit to view the full moon rise. Enjoy local apple cider to toast to the harvest moon. Discover a moon story at a unique site that KMLT helps to protect and manage. Dress for the weather. Registration required. All ages are welcome. \nPlease register in advance\, email liza@kmlandtrust.org
URL:https://kmlandtrust.org/event/harvestmoon/
LOCATION:Beulah Bluff Preserve\, N9026 Bakavi Way\, East Troy\, WI\, 53120\, United States
CATEGORIES:Education,Help Nature,stewardship
ATTACH;FMTTYPE=image/jpeg:https://kmlandtrust.org/wp-content/uploads/2023/05/moon-768x512.jpg
END:VEVENT
BEGIN:VEVENT
DTSTART;TZID=America/Chicago:20230930T100000
DTEND;TZID=America/Chicago:20230930T120000
DTSTAMP:20260425T054251
CREATED:20230809T185627Z
LAST-MODIFIED:20230914T015039Z
UID:11859-1696068000-1696075200@kmlandtrust.org
SUMMARY:Saturday Stewardship - Annual Hackmatack Seed Collection Day
DESCRIPTION:Join Kettle Moraine Land Trust and Geneva Lake Conservancy for a seed-collection outing to Hackmatack National Wildlife Refuge in celebration of 2023 Land Trust Days! Saturday\, September 30th from 10:00 a.m.-noon\, we’ll be harvesting ripe seed of native prairie plants at the Turner Tract\, just northwest of Genoa City\, Wisconsin on County Trunk H.Hackmatack National Wildlife Refuge was established in 2012\, spanning the state line in McHenry County\, Illinois and Walworth County\, Wisconsin. The Turner Tract was the first portion of the refuge to be open to the public. Former agricultural lands occupying portions of the site were seeded with native prairie plants by Ducks Unlimited prior to the transfer of the property to the US Fish & Wildlife Service for inclusion in the Refuge.Volunteers from throughout the Hackmatack region will be on hand to harvest native prairie seeds under the guidance of professional staff from Kettle Moraine Land Trust and Geneva Lake Conservancy. Volunteers are encouraged to wear long pants\, long sleeves\, closed-toe shoes or boots\, and a sun hat. Bring a refillable water bottle. Seeds collected there during the Land Trust Days event will be turned over to the US Fish & Wildlife Service for native species enrichment within the Hackmatack National Wildlife Refuge.
URL:https://kmlandtrust.org/event/stewardship_september_2023-2/
LOCATION:Hackmatack National Wildlife Refuge\, N541 Co Trunk H\, Genoa City\, WI
CATEGORIES:Education,Help Nature,Support Society
ATTACH;FMTTYPE=image/png:https://kmlandtrust.org/wp-content/uploads/2022/07/Hackmatack-Seed-Harvest.png
END:VEVENT
END:VCALENDAR