BEGIN:VCALENDAR
VERSION:2.0
PRODID:-//Kettle Moraine Land Trust - ECPv5.9.0//NONSGML v1.0//EN
CALSCALE:GREGORIAN
METHOD:PUBLISH
X-WR-CALNAME:Kettle Moraine Land Trust
X-ORIGINAL-URL:https://kmlandtrust.org
X-WR-CALDESC:Events for Kettle Moraine Land Trust
BEGIN:VTIMEZONE
TZID:America/Chicago
BEGIN:DAYLIGHT
TZOFFSETFROM:-0600
TZOFFSETTO:-0500
TZNAME:CDT
DTSTART:20230312T080000
END:DAYLIGHT
BEGIN:STANDARD
TZOFFSETFROM:-0500
TZOFFSETTO:-0600
TZNAME:CST
DTSTART:20231105T070000
END:STANDARD
END:VTIMEZONE
BEGIN:VEVENT
DTSTART;TZID=America/Chicago:20230801T203000
DTEND;TZID=America/Chicago:20230801T210000
DTSTAMP:20260425T071551
CREATED:20230504T213150Z
LAST-MODIFIED:20230731T192856Z
UID:11793-1690921800-1690923600@kmlandtrust.org
SUMMARY:CANCELED: Sturgeon Moon at Jackson Creek Preserve
DESCRIPTION:Canceled: Jackson Creek Preserve\, full moon rise gathering. \nJoin us for our August Fourth Saturday Stewardship at Turtle Creek Preserve\, August 26\, and save the date for Oaktoberfest\, Saturday October 14 \n 
URL:https://kmlandtrust.org/event/sturgeon-moon-at-jcp-2-2/
LOCATION:Jackson Creek Preserve\, 201 E Morrisey\, Elkhorn\, WI\, 53121
CATEGORIES:Education,Help Nature,stewardship
ATTACH;FMTTYPE=image/jpeg:https://kmlandtrust.org/wp-content/uploads/2023/05/moon-768x512.jpg
END:VEVENT
BEGIN:VEVENT
DTSTART;TZID=America/Chicago:20230826T130000
DTEND;TZID=America/Chicago:20230826T153000
DTSTAMP:20260425T071551
CREATED:20230504T215633Z
LAST-MODIFIED:20230825T160018Z
UID:11797-1693054800-1693063800@kmlandtrust.org
SUMMARY:Fourth Saturday Stewardship at Petersen Island Woods Preserve
DESCRIPTION:Join us for our fourth Saturday Stewardship Day at Petersen Island Woods Preserve. Depending on the weather\, we’ll be brush cutting\, and other natural area restoration activities conducive for the season. Bring water and dress for the weather. Ages 18 and up\, no experience needed. Children under 18 welcome with adult chaperone\, gain service hours and experience in the conservation field. Registration required. \nTo register\, email liza@kmlandtrust.org
URL:https://kmlandtrust.org/event/fourth-saturday-stewardship-at-turtle-creek-preserve-2-2-2/
LOCATION:Petersen Island Woods Preserve\, East end of Oak Park Road\, Elkhorn\, WI\, 53121\, United States
CATEGORIES:Education,Help Nature,stewardship
ATTACH;FMTTYPE=image/jpeg:https://kmlandtrust.org/wp-content/uploads/2023/05/DSC01758.jpg
END:VEVENT
END:VCALENDAR