BEGIN:VCALENDAR
VERSION:2.0
PRODID:-//Kettle Moraine Land Trust - ECPv5.9.0//NONSGML v1.0//EN
CALSCALE:GREGORIAN
METHOD:PUBLISH
X-WR-CALNAME:Kettle Moraine Land Trust
X-ORIGINAL-URL:https://kmlandtrust.org
X-WR-CALDESC:Events for Kettle Moraine Land Trust
BEGIN:VTIMEZONE
TZID:America/Chicago
BEGIN:DAYLIGHT
TZOFFSETFROM:-0600
TZOFFSETTO:-0500
TZNAME:CDT
DTSTART:20230312T080000
END:DAYLIGHT
BEGIN:STANDARD
TZOFFSETFROM:-0500
TZOFFSETTO:-0600
TZNAME:CST
DTSTART:20231105T070000
END:STANDARD
END:VTIMEZONE
BEGIN:VEVENT
DTSTART;TZID=America/Chicago:20230603T201500
DTEND;TZID=America/Chicago:20230603T210000
DTSTAMP:20260425T101527
CREATED:20230504T001943Z
LAST-MODIFIED:20230504T002137Z
UID:11775-1685823300-1685826000@kmlandtrust.org
SUMMARY:Strawberry Moon at Natureland Park
DESCRIPTION:Join us at Natureland Park for a casual visit to view the full moon rise. Discover a moon story at a unique site that KMLT helps to protect and manage. Dress for the weather and please feel free to bring a beverage to enjoy the beauty of the season. Registration required. All ages are welcome. \nPlease register in advance\, email liza@kmlandtrust.org
URL:https://kmlandtrust.org/event/strawberry-moon-at-natureland-park-2/
LOCATION:Natureland Park\, W8338 Territorial Road\, Whitewater\, WI\, 53190\, United States
CATEGORIES:Education,Help Nature,stewardship
ATTACH;FMTTYPE=image/jpeg:https://kmlandtrust.org/wp-content/uploads/2023/05/moon-768x512.jpg
END:VEVENT
BEGIN:VEVENT
DTSTART;TZID=America/Chicago:20230603T201500
DTEND;TZID=America/Chicago:20230603T210000
DTSTAMP:20260425T101527
CREATED:20230523T233032Z
LAST-MODIFIED:20230523T233033Z
UID:11777-1685823300-1685826000@kmlandtrust.org
SUMMARY:Strawberry Moon at Natureland Park
DESCRIPTION:Join us at Natureland Park for a casual visit to view the full moon rise. Discover a moon story at a unique site that KMLT helps to protect and manage. Dress for the weather and please feel free to bring a beverage to enjoy the beauty of the season. Registration required. All ages are welcome. \nPlease register in advance\, email liza@kmlandtrust.org
URL:https://kmlandtrust.org/event/strawberry-moon-at-natureland-park-2-2/
LOCATION:Natureland Park\, W8338 Territorial Road\, Whitewater\, WI\, 53190\, United States
CATEGORIES:Education,Help Nature,stewardship
ATTACH;FMTTYPE=image/jpeg:https://kmlandtrust.org/wp-content/uploads/2023/05/moon-768x512.jpg
END:VEVENT
BEGIN:VEVENT
DTSTART;TZID=America/Chicago:20230621T183000
DTEND;TZID=America/Chicago:20230621T193000
DTSTAMP:20260425T101527
CREATED:20230504T010756Z
LAST-MODIFIED:20230619T192505Z
UID:11787-1687372200-1687375800@kmlandtrust.org
SUMMARY:Strategies for Lake-Friendly Lawn Care\, Virtual Program
DESCRIPTION:Finding a balance in producing an attractive and functional lawn while minimizing contamination of nearby lakes can be difficult. In this seminar we will discuss strategies such as species selection\, fertility application\, and pest management that will allow you to enjoy your lawn while preserving the beauty of the nearby lake. \nSpeaker: Dr. Paul Koch joined the University of Wisconsin – Madison faculty in the Department of Plant Pathology in January of 2014.  Paul’s research and outreach focus primarily on developing sustainable management strategies for turfgrass landscapes. Paul also oversees the University of Wisconsin’s Turfgrass Diagnostic Lab and is affiliated with the UW Molecular and Environmental Toxicology program. \nSponsored by the University of Wisconsin Extension-Walworth County and Kettle Moraine Land Trust. Register here.
URL:https://kmlandtrust.org/event/strategies-for-lake-friendly-lawn-care/
LOCATION:Online
ATTACH;FMTTYPE=image/jpeg:https://kmlandtrust.org/wp-content/uploads/2023/05/IMG-7173.jpg
END:VEVENT
BEGIN:VEVENT
DTSTART;TZID=America/Chicago:20230624T130000
DTEND;TZID=America/Chicago:20230624T153000
DTSTAMP:20260425T101527
CREATED:20230619T184321Z
LAST-MODIFIED:20230619T184321Z
UID:11817-1687611600-1687620600@kmlandtrust.org
SUMMARY:Fourth Saturday Stewardship at Putra-Scharff Preserve
DESCRIPTION:Join us for our fourth Saturday Stewardship Day at Putra-Scharff Preserve. Depending on the weather\, we’ll be brush cutting\, conducting controlled burns\, and other natural area restoration activities conducive for the season. Bring water and dress for the weather. Ages 18 and up\, no experience needed. Children under 18 welcome with adult chaperone\, gain service hours and experience in the conservation field. Registration required. \nTo register\, email liza@kmlandtrust.org
URL:https://kmlandtrust.org/event/fourth-saturday-stewardship-at-putra-scharff-preserve-3/
LOCATION:Putra-Scharff Preserve\, W374 S8787 County Road N\, Eagle\, WI\, 53119\, United States
ATTACH;FMTTYPE=image/jpeg:https://kmlandtrust.org/wp-content/uploads/2023/06/woodland-wildflower.jpg
END:VEVENT
END:VCALENDAR