BEGIN:VCALENDAR
VERSION:2.0
PRODID:-//Kettle Moraine Land Trust - ECPv5.9.0//NONSGML v1.0//EN
CALSCALE:GREGORIAN
METHOD:PUBLISH
X-WR-CALNAME:Kettle Moraine Land Trust
X-ORIGINAL-URL:https://kmlandtrust.org
X-WR-CALDESC:Events for Kettle Moraine Land Trust
BEGIN:VTIMEZONE
TZID:America/Chicago
BEGIN:DAYLIGHT
TZOFFSETFROM:-0600
TZOFFSETTO:-0500
TZNAME:CDT
DTSTART:20230312T080000
END:DAYLIGHT
BEGIN:STANDARD
TZOFFSETFROM:-0500
TZOFFSETTO:-0600
TZNAME:CST
DTSTART:20231105T070000
END:STANDARD
END:VTIMEZONE
BEGIN:VEVENT
DTSTART;TZID=America/Chicago:20230405T190000
DTEND;TZID=America/Chicago:20230405T200000
DTSTAMP:20260425T132651
CREATED:20230112T222304Z
LAST-MODIFIED:20230405T001411Z
UID:11653-1680721200-1680724800@kmlandtrust.org
SUMMARY:Canceled-Pink Moon at Turtle Creek Preserve
DESCRIPTION:Canceled due to weather. Save the date for the next moon rise viewing\, Friday May 5.
URL:https://kmlandtrust.org/event/pink-moon-at-turtle-creek-preserve/
LOCATION:Turtle Creek Preserve\, County Highway M east of Springwood Drive\, Darien\, Wisconsin\, 53115
CATEGORIES:Education,Help Nature,stewardship
ATTACH;FMTTYPE=image/jpeg:https://kmlandtrust.org/wp-content/uploads/2022/01/full-moon.jpg
END:VEVENT
BEGIN:VEVENT
DTSTART;TZID=America/Chicago:20230422T103000
DTEND;TZID=America/Chicago:20230422T120000
DTSTAMP:20260425T132651
CREATED:20230112T224338Z
LAST-MODIFIED:20230112T224655Z
UID:11662-1682159400-1682164800@kmlandtrust.org
SUMMARY:Earth Day Celebration
DESCRIPTION:Join KMLT at one of our Walworth County Park partner sites\, Price Park Conservancy\, in Elkhorn\, for a family friendly Earth Day program. More details coming soon! Save the date!
URL:https://kmlandtrust.org/event/earth-day-celebration/
LOCATION:Price Park Conservancy\, N6418 Hodunk Rd\, Elkhorn\, 53121\, United States
CATEGORIES:Education,Help Nature,stewardship
ATTACH;FMTTYPE=image/jpeg:https://kmlandtrust.org/wp-content/uploads/2017/12/boris-smokrovic-223509-1-e1513375279339.jpg
END:VEVENT
BEGIN:VEVENT
DTSTART;TZID=America/Chicago:20230422T130000
DTEND;TZID=America/Chicago:20230422T153000
DTSTAMP:20260425T132651
CREATED:20230112T220708Z
LAST-MODIFIED:20230420T225015Z
UID:11646-1682168400-1682177400@kmlandtrust.org
SUMMARY:Fourth Saturday Stewardship at Beulah Bluff Preserve
DESCRIPTION:Join us for our fourth Saturday Stewardship Day at Beulah Bluff Preserve. Depending on the weather\, we’ll be brush cutting\, conducting controlled burns\, and other natural area restoration activities conducive for the season. Bring water and dress for the weather. Ages 18 and up\, no experience needed. Children under 18 welcome with adult chaperone. Registration required. \nTo register\, email liza@kmlandtrust.org
URL:https://kmlandtrust.org/event/fourth-saturday-stewardship-at-beulah-bluff-preserve/
LOCATION:Beulah Bluff Preserve\, N9026 Bakavi Way\, East Troy\, WI\, 53120\, United States
ATTACH;FMTTYPE=image/jpeg:https://kmlandtrust.org/wp-content/uploads/2023/01/Army-Lake-workday-2022.jpg
END:VEVENT
BEGIN:VEVENT
DTSTART;TZID=America/Chicago:20230428T090000
DTEND;TZID=America/Chicago:20230428T110000
DTSTAMP:20260425T132651
CREATED:20230421T002813Z
LAST-MODIFIED:20230421T003330Z
UID:11736-1682672400-1682679600@kmlandtrust.org
SUMMARY:Arbor Day Tree Planting at Natureland Park
DESCRIPTION:Arbor Day Tree Planting\, April 28 \n\nTo celebrate Arbor Day on Friday\, April 28\, KMLT and Walworth County will host two tree-planting events. Volunteers are needed to assist KMLT and Walworth County staff with tree plantings at Natureland Park\,  from 9 a.m. to 11 a.m.\, and at Price Park\, from Noon to 2:00 p.m. Those interested in volunteering for the Arbor Day events should contact Karin Texidor\, Volunteer Services Coordinator\, at (262) 741-4223\, ketexidor@co.walworth.wi.us.
URL:https://kmlandtrust.org/event/arbor-day-tree-planting-with-walworth-county-parks/
LOCATION:Natureland Park\, W8338 Territorial Road\, Whitewater\, WI\, 53190\, United States
CATEGORIES:Education,Help Nature,stewardship,Support Society
ATTACH;FMTTYPE=image/jpeg:https://kmlandtrust.org/wp-content/uploads/2019/02/NLP.jpg
END:VEVENT
BEGIN:VEVENT
DTSTART;TZID=America/Chicago:20230428T120000
DTEND;TZID=America/Chicago:20230428T140000
DTSTAMP:20260425T132651
CREATED:20230421T003124Z
LAST-MODIFIED:20230421T003211Z
UID:11738-1682683200-1682690400@kmlandtrust.org
SUMMARY:Arbor Day Tree Planting at Price Park Conservancy
DESCRIPTION:Arbor Day Tree Planting\, April 28 \n\nTo celebrate Arbor Day on Friday\, April 28\, KMLT and Walworth County will host two tree-planting events. Volunteers are needed to assist KMLT and Walworth County staff with tree plantings at Natureland Park\,  from 9 a.m. to 11 a.m.\, and at Price Park\, from Noon to 2:00 p.m. Those interested in volunteering for the Arbor Day events should contact Karin Texidor\, Volunteer Services Coordinator\, at (262) 741-4223\, ketexidor@co.walworth.wi.us.
URL:https://kmlandtrust.org/event/arbor-day-tree-planting-with-walworth-county-parks-2/
LOCATION:Price Park Conservancy\, N6418 Hodunk Rd\, Elkhorn\, 53121\, United States
CATEGORIES:Education,Help Nature,stewardship,Support Society
ATTACH;FMTTYPE=image/jpeg:https://kmlandtrust.org/wp-content/uploads/2018/03/price-park-sign-e1707347494319.jpeg
END:VEVENT
END:VCALENDAR