BEGIN:VCALENDAR
VERSION:2.0
PRODID:-//Kettle Moraine Land Trust - ECPv5.9.0//NONSGML v1.0//EN
CALSCALE:GREGORIAN
METHOD:PUBLISH
X-WR-CALNAME:Kettle Moraine Land Trust
X-ORIGINAL-URL:https://kmlandtrust.org
X-WR-CALDESC:Events for Kettle Moraine Land Trust
BEGIN:VTIMEZONE
TZID:America/Chicago
BEGIN:DAYLIGHT
TZOFFSETFROM:-0600
TZOFFSETTO:-0500
TZNAME:CDT
DTSTART:20250309T080000
END:DAYLIGHT
BEGIN:STANDARD
TZOFFSETFROM:-0500
TZOFFSETTO:-0600
TZNAME:CST
DTSTART:20251102T070000
END:STANDARD
END:VTIMEZONE
BEGIN:VEVENT
DTSTART;TZID=America/Chicago:20250927T130000
DTEND;TZID=America/Chicago:20250927T160000
DTSTAMP:20260419T163618
CREATED:20250722T203124Z
LAST-MODIFIED:20250827T200019Z
UID:12415-1758978000-1758988800@kmlandtrust.org
SUMMARY:Oaktoberfest at Petersen Island Woods Preserve
DESCRIPTION:Join us for an afternoon of brews and views with your friends and neighbors and participate in a gift basket auction. Enjoy the scenic and botanical beauties of the preserve. Guided interpretive tours will be available. Snacks\, fresh beverages\, and surprises are to be found upon the trail. Learn about the glacial heritage and local native flora\, or simply hike on your own to discover what nature has to offer. \nThroughout the region\, the month of October has been recognized as “Oaktober” in celebration of our most iconic native tree species. And Octoberfest has long been celebrated—in both September and October—as a beer-brewing holiday season. Join with KMLT to kick-off the autumn festivities at Oaktoberfest 2025! \nAll proceeds benefit the conservation efforts of Kettle Moraine Land Trust. Tickets are $25. \nRegister here
URL:https://kmlandtrust.org/event/oaktoberfest2025/
LOCATION:Petersen Island Woods Preserve\, East end of Oak Park Road\, Elkhorn\, WI\, 53121\, United States
CATEGORIES:Education,Help Nature,stewardship,Support Society
ATTACH;FMTTYPE=image/jpeg:https://kmlandtrust.org/wp-content/uploads/2022/07/oakfest9-1-23-acorn.jpg
END:VEVENT
END:VCALENDAR