BEGIN:VCALENDAR
VERSION:2.0
PRODID:-//Kettle Moraine Land Trust - ECPv5.9.0//NONSGML v1.0//EN
CALSCALE:GREGORIAN
METHOD:PUBLISH
X-WR-CALNAME:Kettle Moraine Land Trust
X-ORIGINAL-URL:https://kmlandtrust.org
X-WR-CALDESC:Events for Kettle Moraine Land Trust
BEGIN:VTIMEZONE
TZID:America/Chicago
BEGIN:DAYLIGHT
TZOFFSETFROM:-0600
TZOFFSETTO:-0500
TZNAME:CDT
DTSTART:20250309T080000
END:DAYLIGHT
BEGIN:STANDARD
TZOFFSETFROM:-0500
TZOFFSETTO:-0600
TZNAME:CST
DTSTART:20251102T070000
END:STANDARD
END:VTIMEZONE
BEGIN:VEVENT
DTSTART;TZID=America/Chicago:20250916T090000
DTEND;TZID=America/Chicago:20250916T120000
DTSTAMP:20260419T163519
CREATED:20250825T171309Z
LAST-MODIFIED:20250905T211434Z
UID:12420-1758013200-1758024000@kmlandtrust.org
SUMMARY:Beulah Bluff Pop-up Workday
DESCRIPTION:Come join us at our Beulah Bluff Pop-up Workday on September 16 from 9:00 a.m.-noon! Depending on the weather\, we’ll be removing invasive species and maintaining our trails. \nAll are welcome to attend! If you are less than 18 years of age\, please come with an adult. \nPlease make sure to dress for the weather and bring a water bottle. Additional water will be provided. \nTo sign up\, please register here. \nWe hope to see you soon at Beulah Bluff!
URL:https://kmlandtrust.org/event/beulah-bluff-pop-up-workday/
LOCATION:Beulah Bluff Preserve\, N9026 Bakavi Way\, East Troy\, WI\, 53120\, United States
CATEGORIES:Education,Help Nature,stewardship,Support Society
ATTACH;FMTTYPE=image/jpeg:https://kmlandtrust.org/wp-content/uploads/2024/02/bbp-preserve-sign-e1707340160779.jpg
END:VEVENT
END:VCALENDAR