BEGIN:VCALENDAR
VERSION:2.0
PRODID:-//Kettle Moraine Land Trust - ECPv5.9.0//NONSGML v1.0//EN
CALSCALE:GREGORIAN
METHOD:PUBLISH
X-WR-CALNAME:Kettle Moraine Land Trust
X-ORIGINAL-URL:https://kmlandtrust.org
X-WR-CALDESC:Events for Kettle Moraine Land Trust
BEGIN:VTIMEZONE
TZID:America/Chicago
BEGIN:DAYLIGHT
TZOFFSETFROM:-0600
TZOFFSETTO:-0500
TZNAME:CDT
DTSTART:20240310T080000
END:DAYLIGHT
BEGIN:STANDARD
TZOFFSETFROM:-0500
TZOFFSETTO:-0600
TZNAME:CST
DTSTART:20241103T070000
END:STANDARD
END:VTIMEZONE
BEGIN:VEVENT
DTSTART;TZID=America/Chicago:20240420T103000
DTEND;TZID=America/Chicago:20240420T120000
DTSTAMP:20260420T095749
CREATED:20240207T230357Z
LAST-MODIFIED:20240216T183014Z
UID:12145-1713609000-1713614400@kmlandtrust.org
SUMMARY:Earth Day Celebration
DESCRIPTION:Join KMLT and Walworth County Parks Department at Natureland Park for a family friendly Earth Day program. Welcome spring ephemerals and help us pick up trash to keep the parks welcoming and thriving for all. Gloves and garbage bags provided\, bring your heart\, hands and invite all your friends. Dress for the weather. Students can gain service hours. Registration required. Register here. 
URL:https://kmlandtrust.org/event/earth-day-celebration-2/
LOCATION:Natureland Park\, W8338 Territorial Road\, Whitewater\, WI\, 53190\, United States
CATEGORIES:Education,Help Nature,stewardship,Support Society
ATTACH;FMTTYPE=image/jpeg:https://kmlandtrust.org/wp-content/uploads/2019/02/NLP.jpg
END:VEVENT
END:VCALENDAR