BEGIN:VCALENDAR
VERSION:2.0
PRODID:-//Kettle Moraine Land Trust - ECPv5.9.0//NONSGML v1.0//EN
CALSCALE:GREGORIAN
METHOD:PUBLISH
X-WR-CALNAME:Kettle Moraine Land Trust
X-ORIGINAL-URL:https://kmlandtrust.org
X-WR-CALDESC:Events for Kettle Moraine Land Trust
BEGIN:VTIMEZONE
TZID:America/Chicago
BEGIN:DAYLIGHT
TZOFFSETFROM:-0600
TZOFFSETTO:-0500
TZNAME:CDT
DTSTART:20200308T080000
END:DAYLIGHT
BEGIN:STANDARD
TZOFFSETFROM:-0500
TZOFFSETTO:-0600
TZNAME:CST
DTSTART:20201101T070000
END:STANDARD
END:VTIMEZONE
BEGIN:VEVENT
DTSTART;TZID=America/Chicago:20200523T090000
DTEND;TZID=America/Chicago:20200523T120000
DTSTAMP:20260420T053030
CREATED:20200127T213854Z
LAST-MODIFIED:20200421T161925Z
UID:5542-1590224400-1590235200@kmlandtrust.org
SUMMARY:Petersen Island Woods Preserve Workday
DESCRIPTION:*** In light of the Safer at Home order\, all of KMLT’s May events have been cancelled. Please check back with us to find the rescheduled dates. We appreciate your support in these uncertain times – thank you!*** \nJoin us from 9-noon for this stewardship workday at Petersen Island Woods Preserve where you’ll help care for Petersen Island Woods Preserve… activities could be cutting and treating invasive species\, accumulating burn piles\, or grooming a trail. You’ll use your skills or learn new ones\, and learn about the plants and animals depending on this habitat. \nAll skill levels are appreciated for this day of camaraderie and stewardship. Dress warmly! \nIf you can\, RSVP to info@kmlandtrust.org or call 262-949-7211.
URL:https://kmlandtrust.org/event/petersen-island-woods-preserve-workday-2/
LOCATION:Petersen Island Woods Preserve\, East end of Oak Park Road\, Elkhorn\, WI\, 53121\, United States
ATTACH;FMTTYPE=image/jpeg:https://kmlandtrust.org/wp-content/uploads/2020/01/piwp-photo-for-website2.jpg
END:VEVENT
END:VCALENDAR