BEGIN:VCALENDAR
VERSION:2.0
PRODID:-//Kettle Moraine Land Trust - ECPv5.9.0//NONSGML v1.0//EN
CALSCALE:GREGORIAN
METHOD:PUBLISH
X-WR-CALNAME:Kettle Moraine Land Trust
X-ORIGINAL-URL:https://kmlandtrust.org
X-WR-CALDESC:Events for Kettle Moraine Land Trust
BEGIN:VTIMEZONE
TZID:America/Chicago
BEGIN:DAYLIGHT
TZOFFSETFROM:-0600
TZOFFSETTO:-0500
TZNAME:CDT
DTSTART:20200308T080000
END:DAYLIGHT
BEGIN:STANDARD
TZOFFSETFROM:-0500
TZOFFSETTO:-0600
TZNAME:CST
DTSTART:20201101T070000
END:STANDARD
END:VTIMEZONE
BEGIN:VEVENT
DTSTART;TZID=America/Chicago:20200926T100000
DTEND;TZID=America/Chicago:20200926T130000
DTSTAMP:20260420T052840
CREATED:20190912T174924Z
LAST-MODIFIED:20200917T181522Z
UID:4496-1601114400-1601125200@kmlandtrust.org
SUMMARY:Harvest at Hackmatack
DESCRIPTION:Join Kettle Moraine Land Trust and Geneva Lake Conservancy for a seed-collection outing to Hackmatack National Wildlife Refuge in celebration of 2020 Land Trust Days! Saturday\, September 26 from 10:00 a.m. to 1:00 p.m. we’ll be harvesting ripe seed of native prairie plants at the Turner Tract\, just northwest of Genoa City\, Wisconsin on County Trunk H. \nHackmatack National Wildlife Refuge was established in 2012\, spanning the state line in McHenry County\, Illinois and Walworth County\, Wisconsin. The Turner Tract was the first portion of the refuge to be open to the public. Former agricultural lands occupying portions of the site were seeded with native prairie plants by Ducks Unlimited prior to the transfer of the property to the US Fish & Wildlife Service for inclusion in the Refuge. \nVolunteers from throughout the Hackmatack region will be on hand to harvest native prairie seeds under the guidance of professional staff from Kettle Moraine Land Trust and Geneva Lake Conservancy. \nVolunteers are encouraged to wear long pants\, long sleeves\, closed-toe shoes or boots\, and a sun hat.  Please bring your own seed collection bag (a reusable grocery bag is fine) and your own  water. Seeds collected there during the Land Trust Days event will be turned over to the US Fish & Wildlife Service for native species enrichment within the Hackmatack National Wildlife Refuge.
URL:https://kmlandtrust.org/event/harvest-at-hackmatack/
LOCATION:Hackmatack National Wildlife Refuge\, N541 Co Trunk H\, Genoa City\, WI
ATTACH;FMTTYPE=image/jpeg:https://kmlandtrust.org/wp-content/uploads/2019/09/2019-09-11-02.jpg
END:VEVENT
END:VCALENDAR