BEGIN:VCALENDAR
VERSION:2.0
PRODID:-//Kettle Moraine Land Trust - ECPv5.9.0//NONSGML v1.0//EN
CALSCALE:GREGORIAN
METHOD:PUBLISH
X-WR-CALNAME:Kettle Moraine Land Trust
X-ORIGINAL-URL:https://kmlandtrust.org
X-WR-CALDESC:Events for Kettle Moraine Land Trust
BEGIN:VTIMEZONE
TZID:America/Chicago
BEGIN:DAYLIGHT
TZOFFSETFROM:-0600
TZOFFSETTO:-0500
TZNAME:CDT
DTSTART:20220313T080000
END:DAYLIGHT
BEGIN:STANDARD
TZOFFSETFROM:-0500
TZOFFSETTO:-0600
TZNAME:CST
DTSTART:20221106T070000
END:STANDARD
END:VTIMEZONE
BEGIN:VEVENT
DTSTART;VALUE=DATE:20221126
DTEND;VALUE=DATE:20221127
DTSTAMP:20260419T092554
CREATED:20221104T144955Z
LAST-MODIFIED:20221104T144955Z
UID:11618-1669420800-1669507199@kmlandtrust.org
SUMMARY:Fourth Saturday Workday
DESCRIPTION:Our usual fourth Saturday workday on November 26 is pending as we investigate the sites and weather for the ideal conditions to conduct a controlled burn. Check in with us soon for updates on time and place to say thank you to the earth on Thanksgiving weekend.
URL:https://kmlandtrust.org/event/fourth-saturday-workday/
END:VEVENT
END:VCALENDAR